BEGIN:VCALENDAR
VERSION:2.0
PRODID:-//Ceslan Formación - ECPv6.15.1.1//NONSGML v1.0//EN
CALSCALE:GREGORIAN
METHOD:PUBLISH
X-WR-CALNAME:Ceslan Formación
X-ORIGINAL-URL:https://ceslanformacion.es
X-WR-CALDESC:Eventos para Ceslan Formación
REFRESH-INTERVAL;VALUE=DURATION:PT1H
X-Robots-Tag:noindex
X-PUBLISHED-TTL:PT1H
BEGIN:VTIMEZONE
TZID:Europe/Madrid
BEGIN:DAYLIGHT
TZOFFSETFROM:+0100
TZOFFSETTO:+0200
TZNAME:CEST
DTSTART:20230326T010000
END:DAYLIGHT
BEGIN:STANDARD
TZOFFSETFROM:+0200
TZOFFSETTO:+0100
TZNAME:CET
DTSTART:20231029T010000
END:STANDARD
END:VTIMEZONE
BEGIN:VEVENT
DTSTART;TZID=Europe/Madrid:20231102T150000
DTEND;TZID=Europe/Madrid:20231102T210000
DTSTAMP:20260419T195141
CREATED:20180202T190257Z
LAST-MODIFIED:20231027T085745Z
UID:10000195-1698937200-1698958800@ceslanformacion.es
SUMMARY:Carnet de Carretillero – Carretilla elevadora Jueves en Vizcaya
DESCRIPTION:Nueva convocatoria en Martes de carnet de carretillero\, presencial en Loiu. Obtén ya tu título para poder optar a aquellas candidaturas en las que se requiera manejar la carretilla elevadora.\nEl curso de carnet de carretillero\, tiene un coste de 75€\, pero si lo contratas junto con el carnet de grúa puente\, tienes un descuento. Esto es el curso de carretillero y gruista combinado \, que puedes ver AQUI\nAhora puedes hacer dos cosas: \n\nPREINSCRIBIRTE: pulsa el botón «REALIZAR LA PREINSCPRICIÓN». Esto es conveniente si todavía tienes alguna duda\, y necesitas que contactemos contigo antes de contratar tu matrícula. Al pulsar en este botón\, se abrirá un formulario\, en el que nos podrás facilitar tus datos\, para que nos pongamos en contacto contigo\, sin compromiso alguno por tu parte\, es decir\, que\, si el curso no te encaja\, no tendrás que hacer nada.\n\n  \n\nCONTRATAR TU PLAZA: pulsa en el botón «CONTRATAR MATRICULA». Con este botón\, ya procederás a la contratación y el pago de tu matrícula para este curso.\n\n  \nEn caso de que estés contratando un curso combinado\, y quieras realizar los cursos en DIAS DIFERENTES\, al finalizar la contratación y pago de la matrícula\, en el campo OBSERVACIONES\, deberás indicar los días en los que quieres realizar los cursos \n  \nPARA EMPRESAS: de cara a la contratación de cursos para sus trabajadores\, por favor\, pónganse en contacto con nosotros en administracion@ceslanformacion.com o en el número: 946020206
URL:https://ceslanformacion.es/convocatoria/carnet-de-carretillero-carretilla-elevadora-martes-en-vizcaya-2023-01-03/2023-11-02/
LOCATION:Pabellón de Loiu – Larrondo\, Poligono industrial Larrondo Nº 5\, Zamudio\, Vizcaya\, 48180\, Spain
CATEGORIES:Carnet de carretillero,Carnet de carretillero en Vizcaya,Cursos en Vizcaya
ATTACH;FMTTYPE=image/png:https://ceslanformacion.es/wp-content/uploads/2015/12/CArretillero.png
GEO:43.292644767012;-2.9109364579308
X-APPLE-STRUCTURED-LOCATION;VALUE=URI;X-ADDRESS=Pabellón de Loiu – Larrondo Poligono industrial Larrondo Nº 5 Zamudio Vizcaya 48180 Spain;X-APPLE-RADIUS=500;X-TITLE=Poligono industrial Larrondo Nº 5:geo:-2.9109364579308,43.292644767012
END:VEVENT
BEGIN:VEVENT
DTSTART;TZID=Europe/Madrid:20231111T080000
DTEND;TZID=Europe/Madrid:20231111T150000
DTSTAMP:20260419T195141
CREATED:20210301T175701Z
LAST-MODIFIED:20231005T074334Z
UID:10000007-1699689600-1699714800@ceslanformacion.es
SUMMARY:Carnet de carretillero presencial - Carretilla elevadora en Madrid
DESCRIPTION:[vc_row][vc_column width=»1/4″][vc_single_image image=»13404″ img_size=»medium» css_animation=»fadeIn»][/vc_column][vc_column width=»3/4″][vc_column_text] \nNueva convocatoria en de nuestro curso de carnet de carretillero\, presencial en Madrid.\nObtén ya tu título para poder optar a aquellas candidaturas en las que se requiera manejar la carretilla elevadora.\nEl curso de carnet de carretillero\, tiene un coste de 79€\, pero si lo contratas junto con el carnet de grúa puente\, tienes un descuento. Esto es el curso de carretillero y gruista combinado \, que puedes ver AQUI\n[/vc_column_text][/vc_column][/vc_row]
URL:https://ceslanformacion.es/convocatoria/carnet-de-carretillero-presencial-carretilla-elevadora-en-madrid/2023-11-11/
LOCATION:Madrid – Ajalvir\, Poligono Los Madroños Naves 22-24\, Ajalvir\, Madrid\, 28864\, Spain
CATEGORIES:Carnet de carretillero en Madrid,Cursos de maquinaria y Prl en Madrid Presenciales,Cursos en Madrid
ATTACH;FMTTYPE=image/png:https://ceslanformacion.es/wp-content/uploads/2017/10/CArretillero.png
GEO:40.5302674;-3.4839237
X-APPLE-STRUCTURED-LOCATION;VALUE=URI;X-ADDRESS=Madrid – Ajalvir Poligono Los Madroños Naves 22-24 Ajalvir Madrid 28864 Spain;X-APPLE-RADIUS=500;X-TITLE=Poligono Los Madroños Naves 22-24:geo:-3.4839237,40.5302674
END:VEVENT
BEGIN:VEVENT
DTSTART;TZID=Europe/Madrid:20231113T090000
DTEND;TZID=Europe/Madrid:20231113T150000
DTSTAMP:20260419T195141
CREATED:20220923T101457Z
LAST-MODIFIED:20231026T085630Z
UID:10000468-1699866000-1699887600@ceslanformacion.es
SUMMARY:Oficio Construcción - Parte Troncal
DESCRIPTION:Parte troncal 14 horas para los oficios del metal en convocatoria abierta de este mes\, regulado por el Convenio de la construcción.\nEn caso de querer realizar los cursos de oficio de 20 horas del metal\, estas jornadas serán imprescindibles. \nEstas jornadas\, son inseparables del oficio\, es decir\, debe haberse contratado junto con el oficio que se desea realizar. \nEn caso de duda: administracion@ceslanformacion.com o 946020206
URL:https://ceslanformacion.es/convocatoria/oficio-construccion-parte-troncal/2023-11-13/
LOCATION:Pabellón de Loiu – Larrondo\, Poligono industrial Larrondo Nº 5\, Zamudio\, Vizcaya\, 48180\, Spain
CATEGORIES:Cursos oficio II Convenio del Metal Estatal,Formación obligatoria metal II Convenio FMFCE
ATTACH;FMTTYPE=image/png:https://ceslanformacion.es/wp-content/uploads/2015/12/tarjeta-profesional-de-la-construccion-tpc-ceslanformacion-opt.png
GEO:43.292644767012;-2.9109364579308
X-APPLE-STRUCTURED-LOCATION;VALUE=URI;X-ADDRESS=Pabellón de Loiu – Larrondo Poligono industrial Larrondo Nº 5 Zamudio Vizcaya 48180 Spain;X-APPLE-RADIUS=500;X-TITLE=Poligono industrial Larrondo Nº 5:geo:-2.9109364579308,43.292644767012
END:VEVENT
BEGIN:VEVENT
DTSTART;TZID=Europe/Madrid:20231114T080000
DTEND;TZID=Europe/Madrid:20231114T140000
DTSTAMP:20260419T195141
CREATED:20220407T080758Z
LAST-MODIFIED:20231005T093039Z
UID:10000440-1699948800-1699970400@ceslanformacion.es
SUMMARY:Curso de trabajos en altura en Madrid
DESCRIPTION:Nueva convocatoria del curso de Prl para Trabajos en Altura en Madrid para poder optar a aquellas candidaturas en las requieran.\n  \n\nPREINSCRIBIRTE: pulsa el botón «REALIZAR LA PREINSCPRICIÓN». Esto es conveniente si todavía tienes alguna duda\, y necesitas que contactemos contigo antes de contratar tu matrícula. Al pulsar en este botón\, se abrirá un formulario\, en el que nos podrás facilitar tus datos\, para que nos pongamos en contacto contigo\, sin compromiso alguno por tu parte\, es decir\, que\, si el curso no te encaja\, no tendrás que hacer nada.\n\n  \n\nCONTRATAR TU PLAZA: pulsa en el botón «CONTRATAR MATRICULA». Con este botón\, ya procederás a la contratación y el pago de tu matrícula para este curso.\n\n  \n  \nPARA EMPRESAS: de cara a la contratación de cursos para sus trabajadores\, por favor\, pónganse en contacto con nosotros en administracion@ceslanformacion.com o en el número: 946020206 \n[/vc_column_text][/vc_column][/vc_row]
URL:https://ceslanformacion.es/convocatoria/curso-de-trabajos-en-altura-en-madrid/2023-11-14/
LOCATION:Madrid Fuenlabrada\, Av. de la Hispanidad Av. de la Hispanidad\, Fuenlabrada\, Madrid\, 28945\, Spain
CATEGORIES:Curso de trabajos en alturas en Madrid
ATTACH;FMTTYPE=image/png:https://ceslanformacion.es/wp-content/uploads/2015/12/alturas-png2.png
GEO:40.283871;-3.77876
X-APPLE-STRUCTURED-LOCATION;VALUE=URI;X-ADDRESS=Madrid Fuenlabrada Av. de la Hispanidad Av. de la Hispanidad Fuenlabrada Madrid 28945 Spain;X-APPLE-RADIUS=500;X-TITLE=Av. de la Hispanidad Av. de la Hispanidad:geo:-3.77876,40.283871
END:VEVENT
BEGIN:VEVENT
DTSTART;TZID=Europe/Madrid:20231114T080000
DTEND;TZID=Europe/Madrid:20231114T150000
DTSTAMP:20260419T195141
CREATED:20210309T114648Z
LAST-MODIFIED:20231005T090349Z
UID:10000019-1699948800-1699974000@ceslanformacion.es
SUMMARY:Curso de Plataformas Elevadoras en Madrid
DESCRIPTION:[vc_row][vc_column width=»1/4″][vc_single_image image=»13403″ img_size=»medium»][/vc_column][vc_column width=»3/4″][vc_column_text] \nNueva convocatoria de carnet de plataforma elevadora\, presencial en Madrid. Obtén ya tu título de operador de plataforma elevadora móvil personal (PEMP) para poder optar a aquellas candidaturas en las requieran.\n  \nAhora puedes hacer dos cosas: \n\nPREINSCRIBIRTE: pulsa el botón «REALIZAR LA PREINSCPRICIÓN». Esto es conveniente si todavía tienes alguna duda\, y necesitas que contactemos contigo antes de contratar tu matrícula. Al pulsar en este botón\, se abrirá un formulario\, en el que nos podrás facilitar tus datos\, para que nos pongamos en contacto contigo\, sin compromiso alguno por tu parte\, es decir\, que\, si el curso no te encaja\, no tendrás que hacer nada.\n\n\nCONTRATAR TU PLAZA: pulsa en el botón «CONTRATAR MATRICULA». Con este botón\, ya procederás a la contratación y el pago de tu matrícula para este curso.\n\nEn caso de que estés contratando un curso combinado\, y quieras realizar los cursos en DIAS DIFERENTES\, al finalizar la contratación y pago de la matrícula\, en el campo OBSERVACIONES\, deberás indicar los días en los que quieres realizar los cursos \nPARA EMPRESAS: de cara a la contratación de cursos para sus trabajadores\, por favor\, pónganse en contacto con nosotros en administracion@ceslanformacion.com o en el número: 946020206[/vc_column_text][/vc_column][/vc_row]
URL:https://ceslanformacion.es/convocatoria/curso-de-plataformas-elevadoras-en-madrid/2023-11-14/
LOCATION:Madrid – Ajalvir\, Poligono Los Madroños Naves 22-24\, Ajalvir\, Madrid\, 28864\, Spain
CATEGORIES:Carnet de plataforma elevadora en Madrid,Trabajos en alturas
ATTACH;FMTTYPE=image/png:https://ceslanformacion.es/wp-content/uploads/2015/12/Plataforma.png
GEO:40.5302674;-3.4839237
X-APPLE-STRUCTURED-LOCATION;VALUE=URI;X-ADDRESS=Madrid – Ajalvir Poligono Los Madroños Naves 22-24 Ajalvir Madrid 28864 Spain;X-APPLE-RADIUS=500;X-TITLE=Poligono Los Madroños Naves 22-24:geo:-3.4839237,40.5302674
END:VEVENT
BEGIN:VEVENT
DTSTART;TZID=Europe/Madrid:20231115T090000
DTEND;TZID=Europe/Madrid:20231115T150000
DTSTAMP:20260419T195141
CREATED:20220923T101457Z
LAST-MODIFIED:20231026T085630Z
UID:10000469-1700038800-1700060400@ceslanformacion.es
SUMMARY:Oficio Construcción - Parte Troncal
DESCRIPTION:Parte troncal 14 horas para los oficios del metal en convocatoria abierta de este mes\, regulado por el Convenio de la construcción.\nEn caso de querer realizar los cursos de oficio de 20 horas del metal\, estas jornadas serán imprescindibles. \nEstas jornadas\, son inseparables del oficio\, es decir\, debe haberse contratado junto con el oficio que se desea realizar. \nEn caso de duda: administracion@ceslanformacion.com o 946020206
URL:https://ceslanformacion.es/convocatoria/oficio-construccion-parte-troncal/2023-11-15/
LOCATION:Pabellón de Loiu – Larrondo\, Poligono industrial Larrondo Nº 5\, Zamudio\, Vizcaya\, 48180\, Spain
CATEGORIES:Cursos oficio II Convenio del Metal Estatal,Formación obligatoria metal II Convenio FMFCE
ATTACH;FMTTYPE=image/png:https://ceslanformacion.es/wp-content/uploads/2015/12/tarjeta-profesional-de-la-construccion-tpc-ceslanformacion-opt.png
GEO:43.292644767012;-2.9109364579308
X-APPLE-STRUCTURED-LOCATION;VALUE=URI;X-ADDRESS=Pabellón de Loiu – Larrondo Poligono industrial Larrondo Nº 5 Zamudio Vizcaya 48180 Spain;X-APPLE-RADIUS=500;X-TITLE=Poligono industrial Larrondo Nº 5:geo:-2.9109364579308,43.292644767012
END:VEVENT
BEGIN:VEVENT
DTSTART;TZID=Europe/Madrid:20231118T080000
DTEND;TZID=Europe/Madrid:20231118T150000
DTSTAMP:20260419T195141
CREATED:20210301T175701Z
LAST-MODIFIED:20231005T074334Z
UID:10000008-1700294400-1700319600@ceslanformacion.es
SUMMARY:Carnet de carretillero presencial - Carretilla elevadora en Madrid
DESCRIPTION:[vc_row][vc_column width=»1/4″][vc_single_image image=»13404″ img_size=»medium» css_animation=»fadeIn»][/vc_column][vc_column width=»3/4″][vc_column_text] \nNueva convocatoria en de nuestro curso de carnet de carretillero\, presencial en Madrid.\nObtén ya tu título para poder optar a aquellas candidaturas en las que se requiera manejar la carretilla elevadora.\nEl curso de carnet de carretillero\, tiene un coste de 79€\, pero si lo contratas junto con el carnet de grúa puente\, tienes un descuento. Esto es el curso de carretillero y gruista combinado \, que puedes ver AQUI\n[/vc_column_text][/vc_column][/vc_row]
URL:https://ceslanformacion.es/convocatoria/carnet-de-carretillero-presencial-carretilla-elevadora-en-madrid/2023-11-18/
LOCATION:Madrid – Ajalvir\, Poligono Los Madroños Naves 22-24\, Ajalvir\, Madrid\, 28864\, Spain
CATEGORIES:Carnet de carretillero en Madrid,Cursos de maquinaria y Prl en Madrid Presenciales,Cursos en Madrid
ATTACH;FMTTYPE=image/png:https://ceslanformacion.es/wp-content/uploads/2017/10/CArretillero.png
GEO:40.5302674;-3.4839237
X-APPLE-STRUCTURED-LOCATION;VALUE=URI;X-ADDRESS=Madrid – Ajalvir Poligono Los Madroños Naves 22-24 Ajalvir Madrid 28864 Spain;X-APPLE-RADIUS=500;X-TITLE=Poligono Los Madroños Naves 22-24:geo:-3.4839237,40.5302674
END:VEVENT
BEGIN:VEVENT
DTSTART;TZID=Europe/Madrid:20231125T080000
DTEND;TZID=Europe/Madrid:20231125T150000
DTSTAMP:20260419T195141
CREATED:20210301T175701Z
LAST-MODIFIED:20231005T074334Z
UID:10000009-1700899200-1700924400@ceslanformacion.es
SUMMARY:Carnet de carretillero presencial - Carretilla elevadora en Madrid
DESCRIPTION:[vc_row][vc_column width=»1/4″][vc_single_image image=»13404″ img_size=»medium» css_animation=»fadeIn»][/vc_column][vc_column width=»3/4″][vc_column_text] \nNueva convocatoria en de nuestro curso de carnet de carretillero\, presencial en Madrid.\nObtén ya tu título para poder optar a aquellas candidaturas en las que se requiera manejar la carretilla elevadora.\nEl curso de carnet de carretillero\, tiene un coste de 79€\, pero si lo contratas junto con el carnet de grúa puente\, tienes un descuento. Esto es el curso de carretillero y gruista combinado \, que puedes ver AQUI\n[/vc_column_text][/vc_column][/vc_row]
URL:https://ceslanformacion.es/convocatoria/carnet-de-carretillero-presencial-carretilla-elevadora-en-madrid/2023-11-25/
LOCATION:Madrid – Ajalvir\, Poligono Los Madroños Naves 22-24\, Ajalvir\, Madrid\, 28864\, Spain
CATEGORIES:Carnet de carretillero en Madrid,Cursos de maquinaria y Prl en Madrid Presenciales,Cursos en Madrid
ATTACH;FMTTYPE=image/png:https://ceslanformacion.es/wp-content/uploads/2017/10/CArretillero.png
GEO:40.5302674;-3.4839237
X-APPLE-STRUCTURED-LOCATION;VALUE=URI;X-ADDRESS=Madrid – Ajalvir Poligono Los Madroños Naves 22-24 Ajalvir Madrid 28864 Spain;X-APPLE-RADIUS=500;X-TITLE=Poligono Los Madroños Naves 22-24:geo:-3.4839237,40.5302674
END:VEVENT
END:VCALENDAR