BEGIN:VCALENDAR
VERSION:2.0
PRODID:-//Ceslan Formación - ECPv6.15.1.1//NONSGML v1.0//EN
CALSCALE:GREGORIAN
METHOD:PUBLISH
X-WR-CALNAME:Ceslan Formación
X-ORIGINAL-URL:https://ceslanformacion.es
X-WR-CALDESC:Eventos para Ceslan Formación
REFRESH-INTERVAL;VALUE=DURATION:PT1H
X-Robots-Tag:noindex
X-PUBLISHED-TTL:PT1H
BEGIN:VTIMEZONE
TZID:Europe/Madrid
BEGIN:DAYLIGHT
TZOFFSETFROM:+0100
TZOFFSETTO:+0200
TZNAME:CEST
DTSTART:20230326T010000
END:DAYLIGHT
BEGIN:STANDARD
TZOFFSETFROM:+0200
TZOFFSETTO:+0100
TZNAME:CET
DTSTART:20231029T010000
END:STANDARD
END:VTIMEZONE
BEGIN:VEVENT
DTSTART;TZID=Europe/Madrid:20231216T080000
DTEND;TZID=Europe/Madrid:20231216T150000
DTSTAMP:20260422T041123
CREATED:20210301T175701Z
LAST-MODIFIED:20231005T074334Z
UID:10000012-1702713600-1702738800@ceslanformacion.es
SUMMARY:Carnet de carretillero presencial - Carretilla elevadora en Madrid
DESCRIPTION:[vc_row][vc_column width=»1/4″][vc_single_image image=»13404″ img_size=»medium» css_animation=»fadeIn»][/vc_column][vc_column width=»3/4″][vc_column_text] \nNueva convocatoria en de nuestro curso de carnet de carretillero\, presencial en Madrid.\nObtén ya tu título para poder optar a aquellas candidaturas en las que se requiera manejar la carretilla elevadora.\nEl curso de carnet de carretillero\, tiene un coste de 79€\, pero si lo contratas junto con el carnet de grúa puente\, tienes un descuento. Esto es el curso de carretillero y gruista combinado \, que puedes ver AQUI\n[/vc_column_text][/vc_column][/vc_row]
URL:https://ceslanformacion.es/convocatoria/carnet-de-carretillero-presencial-carretilla-elevadora-en-madrid/2023-12-16/
LOCATION:Madrid – Ajalvir\, Poligono Los Madroños Naves 22-24\, Ajalvir\, Madrid\, 28864\, Spain
CATEGORIES:Carnet de carretillero en Madrid,Cursos de maquinaria y Prl en Madrid Presenciales,Cursos en Madrid
ATTACH;FMTTYPE=image/png:https://ceslanformacion.es/wp-content/uploads/2017/10/CArretillero.png
GEO:40.5302674;-3.4839237
X-APPLE-STRUCTURED-LOCATION;VALUE=URI;X-ADDRESS=Madrid – Ajalvir Poligono Los Madroños Naves 22-24 Ajalvir Madrid 28864 Spain;X-APPLE-RADIUS=500;X-TITLE=Poligono Los Madroños Naves 22-24:geo:-3.4839237,40.5302674
END:VEVENT
END:VCALENDAR