BEGIN:VCALENDAR
VERSION:2.0
PRODID:-//Ceslan Formación - ECPv6.15.1.1//NONSGML v1.0//EN
CALSCALE:GREGORIAN
METHOD:PUBLISH
X-WR-CALNAME:Ceslan Formación
X-ORIGINAL-URL:https://ceslanformacion.es
X-WR-CALDESC:Eventos para Ceslan Formación
REFRESH-INTERVAL;VALUE=DURATION:PT1H
X-Robots-Tag:noindex
X-PUBLISHED-TTL:PT1H
BEGIN:VTIMEZONE
TZID:Europe/Madrid
BEGIN:DAYLIGHT
TZOFFSETFROM:+0100
TZOFFSETTO:+0200
TZNAME:CEST
DTSTART:20240331T010000
END:DAYLIGHT
BEGIN:STANDARD
TZOFFSETFROM:+0200
TZOFFSETTO:+0100
TZNAME:CET
DTSTART:20241027T010000
END:STANDARD
END:VTIMEZONE
BEGIN:VEVENT
DTSTART;TZID=Europe/Madrid:20240109T080000
DTEND;TZID=Europe/Madrid:20240109T140000
DTSTAMP:20260421T024031
CREATED:20171120T183631Z
LAST-MODIFIED:20240812T081407Z
UID:10000105-1704787200-1704808800@ceslanformacion.es
SUMMARY:Carnet de grua puente - gruista puente Martes en Vizcaya
DESCRIPTION:Nueva convocatoria de carnet de grua puente\, presencial en Zamudio. Obtén ya tu título de gruista para poder optar a aquellas candidaturas de puestos de trabajo en los que se utilicen la grúa puente.\nEl curso tiene un coste de 75€\, pero si lo contratas junto con el curso de carnet de carretillero\, tienes un descuento. Esto es el curso de gruista y carretillero combinado\, que puedes ver AQUI\nAhora puedes hacer dos cosas: \n\nPREINSCRIBIRTE: pulsa el botón «REALIZAR LA PREINSCPRICIÓN». Esto es conveniente si todavía tienes alguna duda\, y necesitas que contactemos contigo antes de contratar tu matrícula. Al pulsar en este botón\, se abrirá un formulario\, en el que nos podrás facilitar tus datos\, para que nos pongamos en contacto contigo\, sin compromiso alguno por tu parte\, es decir\, que\, si el curso no te encaja\, no tendrás que hacer nada.\n\n  \n\nCONTRATAR TU PLAZA: pulsa en el botón «CONTRATAR MATRICULA». Con este botón\, ya procederás a la contratación y el pago de tu matrícula para este curso.\n\n  \nEn caso de que estés contratando un curso combinado\, y quieras realizar los cursos en DIAS DIFERENTES\, al finalizar la contratación y pago de la matrícula\, en el campo OBSERVACIONES\, deberás indicar los días en los que quieres realizar los cursos \n  \nPARA EMPRESAS: de cara a la contratación de cursos para sus trabajadores\, por favor\, pónganse en contacto con nosotros en administracion@ceslanformacion.com o en el número: 946020206
URL:https://ceslanformacion.es/convocatoria/carnet-de-grua-puente-gruista-puente-martes-en-vizcaya/
LOCATION:Pabellón de Loiu – Larrondo\, Poligono industrial Larrondo Nº 5\, Zamudio\, Vizcaya\, 48180\, Spain
CATEGORIES:Grua puente
ATTACH;FMTTYPE=image/png:https://ceslanformacion.es/wp-content/uploads/2015/12/Grua-puente.png
GEO:43.292644767012;-2.9109364579308
X-APPLE-STRUCTURED-LOCATION;VALUE=URI;X-ADDRESS=Pabellón de Loiu – Larrondo Poligono industrial Larrondo Nº 5 Zamudio Vizcaya 48180 Spain;X-APPLE-RADIUS=500;X-TITLE=Poligono industrial Larrondo Nº 5:geo:-2.9109364579308,43.292644767012
END:VEVENT
BEGIN:VEVENT
DTSTART;TZID=Europe/Madrid:20240109T080000
DTEND;TZID=Europe/Madrid:20240109T210000
DTSTAMP:20260421T024031
CREATED:20171120T183910Z
LAST-MODIFIED:20240812T081439Z
UID:10000417-1704787200-1704834000@ceslanformacion.es
SUMMARY:Curso combinado Carnet de Carretillero + Carnet Grua puente Martes en Vizcaya
DESCRIPTION:Nueva convocatoria  de nuestro curso más completo\, el combinado de carnet de carretillero y carnet grúa puente. Se realiza un curso en horario de mañana y el otro curso en horario de tarde\, aunque también es posible realizarlo en 2 días distintos.\nSe trata de realizar los dos cursos\, obteniendo un descuento en el precio final por la contratación de ambos en esta modalidad.\nUna vez finalizados los dos cursos\, se entrega un certificado en formato diploma y otro en formato carnet para cada uno de los cursos\nPara más información\, visita la página de descripción del curso: AQUI\nAhora puedes hacer dos cosas: \n\nPREINSCRIBIRTE: pulsa el botón «REALIZAR LA PREINSCPRICIÓN». Esto es conveniente si todavía tienes alguna duda\, y necesitas que contactemos contigo antes de contratar tu matrícula. Al pulsar en este botón\, se abrirá un formulario\, en el que nos podrás facilitar tus datos\, para que nos pongamos en contacto contigo\, sin compromiso alguno por tu parte\, es decir\, que\, si el curso no te encaja\, no tendrás que hacer nada.\n\n  \n\nCONTRATAR TU PLAZA: pulsa en el botón «CONTRATAR MATRICULA». Con este botón\, ya procederás a la contratación y el pago de tu matrícula para este curso.\n\n  \nEn caso de que estés contratando un curso combinado\, y quieras realizar los cursos en DIAS DIFERENTES\, al finalizar la contratación y pago de la matrícula\, en el campo OBSERVACIONES\, deberás indicar los días en los que quieres realizar los cursos \n  \nPARA EMPRESAS: de cara a la contratación de cursos para sus trabajadores\, por favor\, pónganse en contacto con nosotros en administracion@ceslanformacion.com o en el número: 946020206
URL:https://ceslanformacion.es/convocatoria/curso-combinado-carnet-de-carretillero-carnet-grua-puente-martes-en-vizcaya/
LOCATION:Pabellón de Loiu – Larrondo\, Poligono industrial Larrondo Nº 5\, Zamudio\, Vizcaya\, 48180\, Spain
CATEGORIES:Carnet de carretillero en Vizcaya,Combinado
ATTACH;FMTTYPE=image/jpeg:https://ceslanformacion.es/wp-content/uploads/2017/10/Combiando-Woocommerce-1.jpg
GEO:43.292644767012;-2.9109364579308
X-APPLE-STRUCTURED-LOCATION;VALUE=URI;X-ADDRESS=Pabellón de Loiu – Larrondo Poligono industrial Larrondo Nº 5 Zamudio Vizcaya 48180 Spain;X-APPLE-RADIUS=500;X-TITLE=Poligono industrial Larrondo Nº 5:geo:-2.9109364579308,43.292644767012
END:VEVENT
BEGIN:VEVENT
DTSTART;TZID=Europe/Madrid:20240109T150000
DTEND;TZID=Europe/Madrid:20240109T150000
DTSTAMP:20260421T024031
CREATED:20180202T190257Z
LAST-MODIFIED:20240812T081517Z
UID:10000187-1704812400-1704812400@ceslanformacion.es
SUMMARY:Carnet de Carretillero – Carretilla elevadora Martes en Vizcaya
DESCRIPTION:Nueva convocatoria en Martes de carnet de carretillero\, presencial en Zamudio. Obtén ya tu título para poder optar a aquellas candidaturas en las que se requiera manejar la carretilla elevadora.\nEl curso de carnet de carretillero\, tiene un coste de 75€\, pero si lo contratas junto con el carnet de grúa puente\, tienes un descuento. Esto es el curso de carretillero y gruista combinado \, que puedes ver AQUI\nAhora puedes hacer dos cosas: \n\nPREINSCRIBIRTE: pulsa el botón «REALIZAR LA PREINSCPRICIÓN». Esto es conveniente si todavía tienes alguna duda\, y necesitas que contactemos contigo antes de contratar tu matrícula. Al pulsar en este botón\, se abrirá un formulario\, en el que nos podrás facilitar tus datos\, para que nos pongamos en contacto contigo\, sin compromiso alguno por tu parte\, es decir\, que\, si el curso no te encaja\, no tendrás que hacer nada.\n\n  \n\nCONTRATAR TU PLAZA: pulsa en el botón «CONTRATAR MATRICULA». Con este botón\, ya procederás a la contratación y el pago de tu matrícula para este curso.\n\n  \nEn caso de que estés contratando un curso combinado\, y quieras realizar los cursos en DIAS DIFERENTES\, al finalizar la contratación y pago de la matrícula\, en el campo OBSERVACIONES\, deberás indicar los días en los que quieres realizar los cursos \n  \nPARA EMPRESAS: de cara a la contratación de cursos para sus trabajadores\, por favor\, pónganse en contacto con nosotros en administracion@ceslanformacion.com o en el número: 946020206
URL:https://ceslanformacion.es/convocatoria/carnet-de-carretillero-carretilla-elevadora-martes-en-vizcaya/
LOCATION:Pabellón de Loiu – Larrondo\, Poligono industrial Larrondo Nº 5\, Zamudio\, Vizcaya\, 48180\, Spain
CATEGORIES:Carnet de carretillero,Carnet de carretillero en Vizcaya,Cursos en Vizcaya
ATTACH;FMTTYPE=image/png:https://ceslanformacion.es/wp-content/uploads/2015/12/CArretillero.png
GEO:43.292644767012;-2.9109364579308
X-APPLE-STRUCTURED-LOCATION;VALUE=URI;X-ADDRESS=Pabellón de Loiu – Larrondo Poligono industrial Larrondo Nº 5 Zamudio Vizcaya 48180 Spain;X-APPLE-RADIUS=500;X-TITLE=Poligono industrial Larrondo Nº 5:geo:-2.9109364579308,43.292644767012
END:VEVENT
BEGIN:VEVENT
DTSTART;TZID=Europe/Madrid:20240110T080000
DTEND;TZID=Europe/Madrid:20240110T150000
DTSTAMP:20260421T024031
CREATED:20180125T200302Z
LAST-MODIFIED:20240207T102717Z
UID:10000188-1704873600-1704898800@ceslanformacion.es
SUMMARY:Curso combinado Carnet de Carretillero + Carnet Grua puente en Zaragoza Prácticas para curso Semipresencial
DESCRIPTION:[vc_row][vc_column][vc_custom_heading text=»Nueva convocatoria en Zaragoza\, de nuestro curso más completo\, el combinado de carnet de carretillero y carnet grúa puente en modalidad semipresencial.» font_container=»tag:h1|text_align:left» google_fonts=»font_family:Raleway%3A100%2C200%2C300%2Cregular%2C500%2C600%2C700%2C800%2C900|font_style:400%20regular%3A400%3Anormal»][/vc_column][/vc_row][vc_row][vc_column width=»1/4″][vc_single_image image=»10519″ img_size=»400X400″][/vc_column][vc_column width=»3/4″]Prácticas para el curso de carnet de carretillero y carnet de grúa puente\,.\nLa modalidad semipresencial\, actualmente es la más segura dentro de los cursos que realmente son válidos. \n¿Porqué es una manera de cursar el carnet de carretillero de forma más segura?\nPorque el número de horas presenciales\, se limita al mínimo imprescindible\, es decir\, las horas necesarias para completar las prácticas con la máquina. La teoría\, se lleva a cabo de forma segura y cómoda desde casa o desde tu móvil\, de forma online con el curso creado por nuestros expertos en maquinaria y PRL. \n[/vc_column][/vc_row][vc_row][vc_column]¿Por qué es tan atractiva la parte online y tiene tan buenas valoraciones de nuestros alumnos?\nPorque el curso ha sido realizado por nuestros profesores\, los cuales llevan años impartiendo cursos de carnet de carretillero\, esto quiere decir\, que el contenido\, se ajusta a los conocimientos que el operador de carretillas debe tener para poder trabajar con segurida con las Maquinas. \nEn un contenido claro y conciso que aborda el tema sin rodeos. \nPor otro lado\, es un curso\, MULTIMEDIA. Esto quiere decir\, que el curso consta de Audio\, Video y Fotos\, con narración completa del contenido: puedes sentarte a escuchar el curso\, sin tener que leer la pantalla. Una breve muestra: \n[/vc_column][/vc_row][vc_row][vc_column width=»1/6″][/vc_column][vc_column width=»2/3″][vc_column_text] \n\nhttps://ceslanformacion.es/wp-content/uploads/2018/01/Ejemplo-curso-Carretillero.mp4\n[/vc_column_text][/vc_column][vc_column width=»1/6″][/vc_column][/vc_row][vc_row][vc_column]El curso Combinado se trata de realizar los dos cursos\, obteniendo un descuento en el precio final por la contratación de ambos en esta modalidad. \nUna vez finalizados los dos cursos\, se entrega un certificado en formato diploma y otro en formato carnet para cada uno de los cursos\nPara más información\, visita la página de descripción del curso: AQUI \nMás abajo\, dispones de todos los detalles de la convocatoria. Ahora tienes dos opciones: \n\nBOTON «PULSA AQUI PARA PREINSCRIBIRTE»: sirve para indicarnos tus datos para que podamos ponernos en contacto contigo para resolver tus dudas\nBOTON «CONTRATAR» si ya tienes claro que quieres realizar el curso y quiere bloquear una plaza para tí\, pulsa el botón contratar\, y sigue los pasos para realizar el pago del curso\n\nSi necesitas cualquier aclaración puedes llamarnos al 946020206 (Central)\n[/vc_column][/vc_row]
URL:https://ceslanformacion.es/convocatoria/curso-combinado-carnet-de-carretillero-carnet-grua-puente-en-zaragoza-practicas-para-curso-semipresencial/2024-01-10/
LOCATION:Zaragoza – Polígono Malpica\, Polígono Industrial Malpica\, Zaragoza\, Zaragoza\, 50016\, Spain
CATEGORIES:Combinado carretilla + grua puente Zaragoza (Prácticas para semipresencial),Cursos en Zaragoza,Prácticas presenciales (Solo prácticas)
ATTACH;FMTTYPE=image/jpeg:https://ceslanformacion.es/wp-content/uploads/2017/10/Combiando-Woocommerce-1.jpg
GEO:41.6625823;-0.8022421
X-APPLE-STRUCTURED-LOCATION;VALUE=URI;X-ADDRESS=Zaragoza – Polígono Malpica Polígono Industrial Malpica Zaragoza Zaragoza 50016 Spain;X-APPLE-RADIUS=500;X-TITLE=Polígono Industrial Malpica:geo:-0.8022421,41.6625823
END:VEVENT
BEGIN:VEVENT
DTSTART;TZID=Europe/Madrid:20240110T113000
DTEND;TZID=Europe/Madrid:20240110T150000
DTSTAMP:20260421T024031
CREATED:20220517T105324Z
LAST-MODIFIED:20240221T101439Z
UID:10000464-1704886200-1704898800@ceslanformacion.es
SUMMARY:Carnet de grua puente - gruista puente en Zaragoza\, Prácticas para cursos Semipresenciales
DESCRIPTION:Nueva convocatoria para las prácticas presenciales de carnet de grúa puente en Zaragoza\, de nuestro curso Semipresencial de Gruista Puente.\nObtén ya tu título de gruista para poder optar a aquellas candidaturas de puestos de trabajo en los que se utilicen la grúa puente.\nEl curso tiene un coste de 89€\, pero si lo contratas junto con el curso de carnet de carretillero Semipresencial\, tienes un descuento. Esto es el curso de gruista y carretillero combinado\, que puedes ver AQUI
URL:https://ceslanformacion.es/convocatoria/carnet-de-grua-puente-gruista-puente-en-zaragoza-practicas-para-cursos-semipresenciales-2/
LOCATION:Zaragoza – Polígono Malpica\, Polígono Industrial Malpica\, Zaragoza\, Zaragoza\, 50016\, Spain
CATEGORIES:Curso de Grúa puente Zaragoza (Prácticas para semipresencial),Cursos en Zaragoza
ATTACH;FMTTYPE=image/png:https://ceslanformacion.es/wp-content/uploads/2017/10/Grua-puente-1.png
GEO:41.6625823;-0.8022421
X-APPLE-STRUCTURED-LOCATION;VALUE=URI;X-ADDRESS=Zaragoza – Polígono Malpica Polígono Industrial Malpica Zaragoza Zaragoza 50016 Spain;X-APPLE-RADIUS=500;X-TITLE=Polígono Industrial Malpica:geo:-0.8022421,41.6625823
END:VEVENT
END:VCALENDAR