BEGIN:VCALENDAR
VERSION:2.0
PRODID:-//Ceslan Formación - ECPv6.15.1.1//NONSGML v1.0//EN
CALSCALE:GREGORIAN
METHOD:PUBLISH
X-WR-CALNAME:Ceslan Formación
X-ORIGINAL-URL:https://ceslanformacion.es
X-WR-CALDESC:Eventos para Ceslan Formación
REFRESH-INTERVAL;VALUE=DURATION:PT1H
X-Robots-Tag:noindex
X-PUBLISHED-TTL:PT1H
BEGIN:VTIMEZONE
TZID:Europe/Madrid
BEGIN:DAYLIGHT
TZOFFSETFROM:+0100
TZOFFSETTO:+0200
TZNAME:CEST
DTSTART:20240331T010000
END:DAYLIGHT
BEGIN:STANDARD
TZOFFSETFROM:+0200
TZOFFSETTO:+0100
TZNAME:CET
DTSTART:20241027T010000
END:STANDARD
END:VTIMEZONE
BEGIN:VEVENT
DTSTART;TZID=Europe/Madrid:20240522T080000
DTEND;TZID=Europe/Madrid:20240522T163000
DTSTAMP:20260420T074007
CREATED:20190516T060532Z
LAST-MODIFIED:20240503T171308Z
UID:10000117-1716364800-1716395400@ceslanformacion.es
SUMMARY:C7 - Oficio de operarios de máquinas de mecanizado por deformación y corte (Convenio Metal) 20 horas
DESCRIPTION:Nueva convocatoria para el curso de 20 horas de C7 – Oficio de operarios de máquinas de mecanizado por deformación y corte (Convenio Metal) regulado por el II Convenio del metal Estatal\nEl curso de oficio\, se desarrollará en las siguientes fechas y horarios: \n\nJornadas parte troncal: 13 y 16 de Mayo o de 8:00 a 14:00\nJornada específica de oficio (Curso de 8 horas): 22/05/2024 de 8:00 a 13:30 y de 14:00 a 16:30\n\n  \nPARA EMPRESAS: de cara a la contratación de cursos para sus trabajadores\, por favor\, pónganse en contacto con nosotros en administracion@ceslan.com \n 
URL:https://ceslanformacion.es/convocatoria/c7-oficio-de-operarios-de-maquinas-de-mecanizado-por-deformacion-y-corte-convenio-metal-20-horas/
LOCATION:Pabellón de Loiu – Larrondo\, Poligono industrial Larrondo Nº 5\, Zamudio\, Vizcaya\, 48180\, Spain
CATEGORIES:Curso oficio metal C7 de Operarios de mecanizado por deformación y corte del metal 8 horas / 20 horas,Cursos oficio II Convenio del Metal Estatal,Formación obligatoria metal II Convenio FMFCE
ATTACH;FMTTYPE=image/jpeg:https://ceslanformacion.es/wp-content/uploads/2015/12/Deformacion.jpg
GEO:43.292644767012;-2.9109364579308
X-APPLE-STRUCTURED-LOCATION;VALUE=URI;X-ADDRESS=Pabellón de Loiu – Larrondo Poligono industrial Larrondo Nº 5 Zamudio Vizcaya 48180 Spain;X-APPLE-RADIUS=500;X-TITLE=Poligono industrial Larrondo Nº 5:geo:-2.9109364579308,43.292644767012
END:VEVENT
BEGIN:VEVENT
DTSTART;TZID=Europe/Madrid:20240522T100000
DTEND;TZID=Europe/Madrid:20240522T183000
DTSTAMP:20260420T074007
CREATED:20220221T121830Z
LAST-MODIFIED:20240503T171212Z
UID:10000432-1716372000-1716402600@ceslanformacion.es
SUMMARY:C7 - Oficio de operarios de máquinas de mecanizado por deformación y corte (Convenio Metal) 8 horas
DESCRIPTION:Nueva convocatoria para el curso de 8 horas de C7 – Oficio de operarios de máquinas de mecanizado por deformación y corte (Convenio Metal) regulado por el II Convenio del metal Estatal\nAhora puedes hacer dos cosas: \n\nPREINSCRIBIRTE: pulsa el botón «REALIZAR LA PREINSCPRICIÓN». Esto es conveniente si todavía tienes alguna duda\, y necesitas que contactemos contigo antes de contratar tu matrícula. Al pulsar en este botón\, se abrirá un formulario\, en el que nos podrás facilitar tus datos\, para que nos pongamos en contacto contigo\, sin compromiso alguno por tu parte\, es decir\, que\, si el curso no te encaja\, no tendrás que hacer nada.\n\n  \n\nCONTRATAR TU PLAZA: pulsa en el botón «CONTRATAR MATRICULA». Con este botón\, ya procederás a la contratación y el pago de tu matrícula para este curso de 20 horas.\n\nEn caso de querer contratar el curso de 20 HORAS\, deberás hacerlo en la convocatoria especifica de 8 horas\n\n\n\nPARA EMPRESAS: de cara a la contratación de cursos para sus trabajadores\, por favor\, pónganse en contacto con nosotros en administracion@ceslan.com \n 
URL:https://ceslanformacion.es/convocatoria/c7-oficio-de-operarios-de-maquinas-de-mecanizado-por-deformacion-y-corte-convenio-metal-8-horas/
LOCATION:Pabellón de Loiu – Larrondo\, Poligono industrial Larrondo Nº 5\, Zamudio\, Vizcaya\, 48180\, Spain
CATEGORIES:Curso oficio metal C7 de Operarios de mecanizado por deformación y corte del metal 8 horas / 20 horas,Cursos oficio II Convenio del Metal Estatal,Formación obligatoria metal II Convenio FMFCE
ATTACH;FMTTYPE=image/jpeg:https://ceslanformacion.es/wp-content/uploads/2015/12/Deformacion.jpg
GEO:43.292644767012;-2.9109364579308
X-APPLE-STRUCTURED-LOCATION;VALUE=URI;X-ADDRESS=Pabellón de Loiu – Larrondo Poligono industrial Larrondo Nº 5 Zamudio Vizcaya 48180 Spain;X-APPLE-RADIUS=500;X-TITLE=Poligono industrial Larrondo Nº 5:geo:-2.9109364579308,43.292644767012
END:VEVENT
END:VCALENDAR